BEGIN:VCALENDAR
VERSION:2.0
PRODID:-//eventon.com NONSGML v1.0//EN
CALSCALE:GREGORIAN
METHOD:PUBLISH
BEGIN:VEVENT
UID:69ece0bb64a4f
DTSTAMP:20260425T154147Z
DTSTART:20251103
DTEND:20251104
LOCATION:
SUMMARY:Rentrée POEC à Rennes !
DESCRIPTION:📢&nbsp;Annonce Importante !&nbsp;📢 La rentrée de la POE
 C (Préparation Opérationnelle à l’Emploi Collective) approche à gran
 ds pas : le 3 novembre 2025 ! 🗓️ La POEC\,  c’est quoi ?Un disposit
 if financé par France Travail et les OPCO\,  qui permet de se former ra
 pidement pour intégrer une formation certifiante ou un emploi dans le doma
 ine sportif. 💡&nbsp;Pourquoi[..]\nhttps://www.encp.fr/agenda/rentree-poe
 c-a-rennes/
URL:https://www.encp.fr/agenda/rentree-poec-a-rennes/
END:VEVENT
END:VCALENDAR