BEGIN:VCALENDAR
VERSION:2.0
PRODID:-//eventon.com NONSGML v1.0//EN
CALSCALE:GREGORIAN
METHOD:PUBLISH
BEGIN:VEVENT
UID:69e735c766fbe
DTSTAMP:20260421T083103Z
DTSTART:20260307
DTEND:20260308
LOCATION:
SUMMARY:Formation Pilates à Caen – 4 week-ends pour devenir un expert !
DESCRIPTION:Participez à une formation complète en Pilates\,  organisée 
 sur 4 week-ends : 07 et 08 mars – Week-end 1 21 et 22 mars – Week-end 2
  25 et 26 avril – Week-end 3 30 et 31 mai – Week-end 4 Conçue pour tou
 te personne qui souhaite approfondir ses connaissances en[..]\nhttps://www.
 encp.fr/agenda/formation-pilates-a-caen-4-week-ends-pour-devenir-un-expert-
 2/
URL:https://www.encp.fr/agenda/formation-pilates-a-caen-4-week-ends-pour-devenir-un-expert-2/
END:VEVENT
END:VCALENDAR