BEGIN:VCALENDAR
VERSION:2.0
PRODID:-//eventon.com NONSGML v1.0//EN
CALSCALE:GREGORIAN
METHOD:PUBLISH
BEGIN:VEVENT
UID:69e904df4cbde
DTSTAMP:20260422T172655Z
DTSTART:20260912
DTEND:20260913
LOCATION:
SUMMARY:Formation Pilates à Caen - Devenir instructeur Pilates
DESCRIPTION:Participez à&nbsp;une formation complète en Pilates\,  organi
 sée sur 4 week-ends : WE 1 : 12 &amp; 13 Septembre WE 2 : 3 &amp; 4 Octobr
 e WE 3 : 7 &amp; 8 Novembre WE 4 : 5 &amp; 6 Décembre&nbsp; Conçue pour t
 oute personne qui souhaite approfondir ses connaissances en Pilates\, [..]\
 nhttps://www.encp.fr/agenda/formation-pilates-a-caen-devenir-instructeur-pi
 lates/
URL:https://www.encp.fr/agenda/formation-pilates-a-caen-devenir-instructeur-pilates/
END:VEVENT
END:VCALENDAR