BEGIN:VCALENDAR
VERSION:2.0
PRODID:-//eventon.com NONSGML v1.0//EN
CALSCALE:GREGORIAN
METHOD:PUBLISH
BEGIN:VEVENT
UID:69ea14de23fe5
DTSTAMP:20260423T124726Z
DTSTART:20260912
DTEND:20260913
LOCATION:
SUMMARY:Formation Pilates à Rennes - Devenir instructeur Pilates
DESCRIPTION:Participez à&nbsp;une formation complète en Pilates\,  organi
 sée sur 4 week-ends : WE 1: 12 &amp; 13 Septembre WE 2: 03 &amp; 04 Octobr
 e WE 3: 24 &amp; 25 Octobre WE 4: 07 &amp; 08 Novembre Conçue pour toute p
 ersonne qui souhaite approfondir ses connaissances en Pilates\,  cette form
 ation vous permettra[..]\nhttps://www.encp.fr/agenda/formation-pilates-a-re
 nnes-devenir-instructeur-pilates-2/
URL:https://www.encp.fr/agenda/formation-pilates-a-rennes-devenir-instructeur-pilates-2/
END:VEVENT
END:VCALENDAR