BEGIN:VCALENDAR
VERSION:2.0
PRODID:-//eventon.com NONSGML v1.0//EN
CALSCALE:GREGORIAN
METHOD:PUBLISH
BEGIN:VEVENT
UID:69ea1523c065c
DTSTAMP:20260423T124835Z
DTSTART:20260923
DTEND:20260924
LOCATION:
SUMMARY:Piloter et développer une salle de sport à Caen – 5 week-ends pour devenir un expert !
DESCRIPTION:Participez à Piloter et développer une salle de sport\,  orga
 nisée sur 5 week-ends : 23 et 24 Septembre 14 et 15 Octobre 4 et 5 Novembr
 e 9 et 10 Décembre Certification 11 au 15 Janvier 2027 Que vous soyez édu
 cateur sportif\,  coach\,  animateur ou gestionnaire d’une salle de sport
  ou[..]\nhttps://www.encp.fr/agenda/piloter-et-developper-une-salle-de-spor
 t-a-caen-5-week-ends-pour-devenir-un-expert/
URL:https://www.encp.fr/agenda/piloter-et-developper-une-salle-de-sport-a-caen-5-week-ends-pour-devenir-un-expert/
END:VEVENT
END:VCALENDAR