BEGIN:VCALENDAR
VERSION:2.0
PRODID:-//eventon.com NONSGML v1.0//EN
CALSCALE:GREGORIAN
METHOD:PUBLISH
BEGIN:VEVENT
UID:69e903e5833c9
DTSTAMP:20260422T172245Z
DTSTART:20260422
DTEND:20260423
LOCATION:
SUMMARY:Information Collective sur le BPJEPS APSF le 22 avril 2026 !
DESCRIPTION:📢 Annonce importante à Rennes ! 📢La prochaine Informat
 ion Collective pour la formation BPJEPS APSF approchent à grands pas ! 
 🗓 Prochaine date confirmée :Mercredi 22 avril 2026 Pourquoi participe
 r à la réunion d’information collective ?✅ Elle vous permet de décou
 vrir en détail la formation BPJEPS APSF et ses débouchés.✅ Vous pourre
 z poser toutes vos questions sur[..]\nhttps://www.encp.fr/agenda/informatio
 n-collective-sur-le-bpjeps-apsf-le-22-avril-2026/
URL:https://www.encp.fr/agenda/information-collective-sur-le-bpjeps-apsf-le-22-avril-2026/
END:VEVENT
END:VCALENDAR