BEGIN:VCALENDAR
VERSION:2.0
PRODID:-//eventon.com NONSGML v1.0//EN
CALSCALE:GREGORIAN
METHOD:PUBLISH
BEGIN:VEVENT
UID:69e904a49e495
DTSTAMP:20260422T172556Z
DTSTART:20260429
DTEND:20260430
LOCATION:
SUMMARY:Information Collective sur le BPJEPS APSF le 29 avril 2026 !
DESCRIPTION:📢&nbsp;Annonce importante à Brest !&nbsp;📢La prochaine I
 nformation Collective&nbsp;pour la formation&nbsp;BPJEPS APSF&nbsp;approche
 nt à grands pas ! 🗓&nbsp;Prochaine date confirmée&nbsp;:Mercredi 29 av
 ril 2026 Pourquoi participer à la réunion d’information collective ?✅
  Elle vous permet de découvrir en détail la formation BPJEPS APSF et ses 
 débouchés.✅ Vous pourrez poser toutes vos questions sur[..]\nhttps://ww
 w.encp.fr/agenda/information-collective-sur-le-bpjeps-apsf-le-29-avril-2026
 /
URL:https://www.encp.fr/agenda/information-collective-sur-le-bpjeps-apsf-le-29-avril-2026/
END:VEVENT
END:VCALENDAR