BEGIN:VCALENDAR
VERSION:2.0
PRODID:-//eventon.com NONSGML v1.0//EN
CALSCALE:GREGORIAN
METHOD:PUBLISH
BEGIN:VEVENT
UID:69e9048a83596
DTSTAMP:20260422T172530Z
DTSTART:20260506
DTEND:20260507
LOCATION:
SUMMARY:Information Collective sur le BPJEPS APSF le 06 mai 2026 !
DESCRIPTION:📢&nbsp;Annonce importante à Lorient !&nbsp;📢La prochaine
  Information Collective&nbsp;pour la formation&nbsp;BPJEPS APSF&nbsp;approc
 hent à grands pas ! 🗓 Prochaine date confirmée :Mercredi 06 mai 2026
  Pourquoi participer à la réunion d’information collective ?✅ Elle vo
 us permet de découvrir en détail la formation BPJEPS APSF et ses débouch
 és.✅ Vous pourrez poser toutes vos questions sur[..]\nhttps://www.encp.f
 r/agenda/information-collective-sur-le-bpjeps-apsf-le-6-mai-2026/
URL:https://www.encp.fr/agenda/information-collective-sur-le-bpjeps-apsf-le-6-mai-2026/
END:VEVENT
END:VCALENDAR