BEGIN:VCALENDAR
VERSION:2.0
PRODID:-//eventon.com NONSGML v1.0//EN
CALSCALE:GREGORIAN
METHOD:PUBLISH
BEGIN:VEVENT
UID:69e9043d9f569
DTSTAMP:20260422T172413Z
DTSTART:20260701
DTEND:20260702
LOCATION:
SUMMARY:Information Collective sur le BPJEPS APSF le 01 juillet 2026 !
DESCRIPTION:📢&nbsp;Annonce importante à Marseille !&nbsp;📢La prochai
 ne Information Collective&nbsp;pour la formation&nbsp;BPJEPS APSF&nbsp;appr
 ochent à grands pas ! 🗓 Prochaine date confirmée :Mercredi 01 juille
 t 2026 Puis tous les premiers mercredis de chaque mois Pourquoi participer 
 à la réunion d’information collective ?✅ Elle vous permet de découvr
 ir en détail la formation BPJEPS APSF et ses[..]\nhttps://www.encp.fr/agen
 da/information-collective-sur-le-bpjeps-apsf-le-1-juillet-2026/
URL:https://www.encp.fr/agenda/information-collective-sur-le-bpjeps-apsf-le-1-juillet-2026/
END:VEVENT
END:VCALENDAR