BEGIN:VCALENDAR
VERSION:2.0
PRODID:-//eventon.com NONSGML v1.0//EN
CALSCALE:GREGORIAN
METHOD:PUBLISH
BEGIN:VEVENT
UID:69ea15092a6d1
DTSTAMP:20260423T124809Z
DTSTART:20261010
DTEND:20261011
LOCATION:
SUMMARY:Rentrée Chargé d'accueil le 05 octobre 2026 !
DESCRIPTION:📢&nbsp;Annonce Importante !&nbsp;📢 Nous sommes heureux de
  vous annoncer que la première rentrée de la formation Chargé(e) d’acc
 ueil et de gestion administrative aura lieu le 05 octobre à Rennes ! 🗓
 ✨ Cette formation est une opportunité idéale pour accéder à des mé
 tiers polyvalents dans l’accueil\,  l’administratif et la relation clie
 nt\, [..]\nhttps://www.encp.fr/agenda/rentree-charge-daccueil-le-05-octobre
 -2026/
URL:https://www.encp.fr/agenda/rentree-charge-daccueil-le-05-octobre-2026/
END:VEVENT
END:VCALENDAR